BEGIN:VCALENDAR
VERSION:2.0
PRODID:-//Tukios.com/
BEGIN:VEVENT
UID:22d36d8a-c36d-4995-904e-56270f7442fb@www.queenlee.com
DTSTAMP:20260420T214053Z
DTSTART:20260422T170000Z
DTEND:20260422T180000Z
SUMMARY:Funeral Service
DESCRIPTION:
URL:https://www.queenlee.com/obituaries/linda-hert
LOCATION:Queen-Lee Chapel 431 High Street  Shoals IN 47581
GEO:38.6664401;-86.7911096
END:VEVENT
END:VCALENDAR