BEGIN:VCALENDAR
VERSION:2.0
PRODID:-//Tukios.com/
BEGIN:VEVENT
UID:600c25ae-360c-4aaa-a369-5d47c16d747e@www.queenlee.com
DTSTAMP:20260420T213915Z
DTSTART:20260422T150000Z
DTEND:20260422T170000Z
SUMMARY:Visitation
DESCRIPTION:
URL:https://www.queenlee.com/obituaries/linda-hert
LOCATION:Queen-Lee Chapel 431 High Street  Shoals IN 47581
GEO:38.6664401;-86.7911096
END:VEVENT
END:VCALENDAR