BEGIN:VCALENDAR
VERSION:2.0
PRODID:-//Tukios.com/
BEGIN:VEVENT
UID:cd59e75a-7031-4834-a0c7-d02acf542f73@www.queenlee.com
DTSTAMP:20260420T200155Z
DTSTART:20260422T150000Z
DTEND:20260422T160000Z
SUMMARY:Graveside Service
DESCRIPTION:
URL:https://www.queenlee.com/obituaries/donna-salmon
LOCATION:Spring Hill Cemetery Shoals, IN   US 47581  Shoals IN 47581
GEO:38.6664401;-86.7911096
END:VEVENT
END:VCALENDAR